BEGIN:VCALENDAR
VERSION:2.0
PRODID:-//NAIOP North NV - ECPv6.15.20//NONSGML v1.0//EN
CALSCALE:GREGORIAN
METHOD:PUBLISH
X-WR-CALNAME:NAIOP North NV
X-ORIGINAL-URL:https://naiopnnv.com
X-WR-CALDESC:Events for NAIOP North NV
REFRESH-INTERVAL;VALUE=DURATION:PT1H
X-Robots-Tag:noindex
X-PUBLISHED-TTL:PT1H
BEGIN:VTIMEZONE
TZID:America/Los_Angeles
BEGIN:DAYLIGHT
TZOFFSETFROM:-0800
TZOFFSETTO:-0700
TZNAME:PDT
DTSTART:20190310T100000
END:DAYLIGHT
BEGIN:STANDARD
TZOFFSETFROM:-0700
TZOFFSETTO:-0800
TZNAME:PST
DTSTART:20191103T090000
END:STANDARD
BEGIN:DAYLIGHT
TZOFFSETFROM:-0800
TZOFFSETTO:-0700
TZNAME:PDT
DTSTART:20200308T100000
END:DAYLIGHT
BEGIN:STANDARD
TZOFFSETFROM:-0700
TZOFFSETTO:-0800
TZNAME:PST
DTSTART:20201101T090000
END:STANDARD
BEGIN:DAYLIGHT
TZOFFSETFROM:-0800
TZOFFSETTO:-0700
TZNAME:PDT
DTSTART:20210314T100000
END:DAYLIGHT
BEGIN:STANDARD
TZOFFSETFROM:-0700
TZOFFSETTO:-0800
TZNAME:PST
DTSTART:20211107T090000
END:STANDARD
BEGIN:DAYLIGHT
TZOFFSETFROM:-0800
TZOFFSETTO:-0700
TZNAME:PDT
DTSTART:20220313T100000
END:DAYLIGHT
BEGIN:STANDARD
TZOFFSETFROM:-0700
TZOFFSETTO:-0800
TZNAME:PST
DTSTART:20221106T090000
END:STANDARD
BEGIN:DAYLIGHT
TZOFFSETFROM:-0800
TZOFFSETTO:-0700
TZNAME:PDT
DTSTART:20230312T100000
END:DAYLIGHT
BEGIN:STANDARD
TZOFFSETFROM:-0700
TZOFFSETTO:-0800
TZNAME:PST
DTSTART:20231105T090000
END:STANDARD
END:VTIMEZONE
BEGIN:VEVENT
DTSTART;TZID=America/Los_Angeles:20221216T090000
DTEND;TZID=America/Los_Angeles:20221216T100000
DTSTAMP:20260425T055702
CREATED:20220125T210738Z
LAST-MODIFIED:20220125T210738Z
UID:6228-1671181200-1671184800@naiopnnv.com
SUMMARY:Board of Directors Meeting
DESCRIPTION:
URL:https://naiopnnv.com/event/board-of-directors-meeting-12/
CATEGORIES:Committee Meetings
END:VEVENT
BEGIN:VEVENT
DTSTART;TZID=America/Los_Angeles:20221118T090000
DTEND;TZID=America/Los_Angeles:20221118T100000
DTSTAMP:20260425T055702
CREATED:20220125T210550Z
LAST-MODIFIED:20220125T210550Z
UID:6226-1668762000-1668765600@naiopnnv.com
SUMMARY:Board of Directors Meeting
DESCRIPTION:
URL:https://naiopnnv.com/event/board-of-directors-meeting-11/
CATEGORIES:Committee Meetings
END:VEVENT
BEGIN:VEVENT
DTSTART;TZID=America/Los_Angeles:20220916T090000
DTEND;TZID=America/Los_Angeles:20220916T100000
DTSTAMP:20260425T055702
CREATED:20220125T210456Z
LAST-MODIFIED:20220125T210456Z
UID:6222-1663318800-1663322400@naiopnnv.com
SUMMARY:Board of Directors Meeting
DESCRIPTION:
URL:https://naiopnnv.com/event/board-of-directors-meeting-9/
CATEGORIES:Committee Meetings
END:VEVENT
BEGIN:VEVENT
DTSTART;TZID=America/Los_Angeles:20220819T090000
DTEND;TZID=America/Los_Angeles:20220819T100000
DTSTAMP:20260425T055702
CREATED:20220125T210012Z
LAST-MODIFIED:20220125T210012Z
UID:6220-1660899600-1660903200@naiopnnv.com
SUMMARY:Board of Directors Meeting
DESCRIPTION:
URL:https://naiopnnv.com/event/board-of-directors-meeting-8/
CATEGORIES:Committee Meetings
END:VEVENT
BEGIN:VEVENT
DTSTART;TZID=America/Los_Angeles:20220715T090000
DTEND;TZID=America/Los_Angeles:20220715T100000
DTSTAMP:20260425T055702
CREATED:20220125T205947Z
LAST-MODIFIED:20220125T205947Z
UID:6218-1657875600-1657879200@naiopnnv.com
SUMMARY:Board of Directors Meeting
DESCRIPTION:
URL:https://naiopnnv.com/event/board-of-directors-meeting-7/
CATEGORIES:Committee Meetings
END:VEVENT
BEGIN:VEVENT
DTSTART;TZID=America/Los_Angeles:20220617T090000
DTEND;TZID=America/Los_Angeles:20220617T100000
DTSTAMP:20260425T055702
CREATED:20220125T205928Z
LAST-MODIFIED:20220125T205928Z
UID:6216-1655456400-1655460000@naiopnnv.com
SUMMARY:Board of Directors Meeting
DESCRIPTION:
URL:https://naiopnnv.com/event/board-of-directors-meeting-6/
CATEGORIES:Committee Meetings
END:VEVENT
BEGIN:VEVENT
DTSTART;TZID=America/Los_Angeles:20220520T090000
DTEND;TZID=America/Los_Angeles:20220520T100000
DTSTAMP:20260425T055702
CREATED:20220125T205903Z
LAST-MODIFIED:20220125T205903Z
UID:6214-1653037200-1653040800@naiopnnv.com
SUMMARY:Board of Directors Meeting
DESCRIPTION:
URL:https://naiopnnv.com/event/board-of-directors-meeting-5/
CATEGORIES:Committee Meetings
END:VEVENT
BEGIN:VEVENT
DTSTART;TZID=America/Los_Angeles:20220415T090000
DTEND;TZID=America/Los_Angeles:20220415T100000
DTSTAMP:20260425T055702
CREATED:20220125T205845Z
LAST-MODIFIED:20220125T205845Z
UID:6212-1650013200-1650016800@naiopnnv.com
SUMMARY:Board of Directors Meeting
DESCRIPTION:
URL:https://naiopnnv.com/event/board-of-directors-meeting-4/
CATEGORIES:Committee Meetings
END:VEVENT
BEGIN:VEVENT
DTSTART;TZID=America/Los_Angeles:20220318T090000
DTEND;TZID=America/Los_Angeles:20220318T100000
DTSTAMP:20260425T055702
CREATED:20220125T204353Z
LAST-MODIFIED:20220125T204353Z
UID:6172-1647594000-1647597600@naiopnnv.com
SUMMARY:Board of Directors Meeting
DESCRIPTION:
URL:https://naiopnnv.com/event/board-of-directors-meeting-3/
CATEGORIES:Committee Meetings
END:VEVENT
BEGIN:VEVENT
DTSTART;TZID=America/Los_Angeles:20220218T090000
DTEND;TZID=America/Los_Angeles:20220218T100000
DTSTAMP:20260425T055702
CREATED:20220125T203508Z
LAST-MODIFIED:20220125T203508Z
UID:6158-1645174800-1645178400@naiopnnv.com
SUMMARY:Board of Directors Meeting
DESCRIPTION:
URL:https://naiopnnv.com/event/board-of-directors-meeting-2/
CATEGORIES:Committee Meetings
END:VEVENT
BEGIN:VEVENT
DTSTART;TZID=America/Los_Angeles:20210719T110000
DTEND;TZID=America/Los_Angeles:20210719T130000
DTSTAMP:20260425T055702
CREATED:20210707T203033Z
LAST-MODIFIED:20210707T203033Z
UID:5972-1626692400-1626699600@naiopnnv.com
SUMMARY:Government Affairs Luncheon
DESCRIPTION:
URL:https://naiopnnv.com/event/government-affairs-luncheon/
LOCATION:Peppermill Resort\, 2707 S Virginia St\, Reno\, NV\, 89502\, United States
CATEGORIES:Government Affairs
ATTACH;FMTTYPE=image/jpeg:https://naiopnnv.com/wp-content/uploads/2021/07/GA-Luncheon-Event-Feat-Img.jpg
END:VEVENT
BEGIN:VEVENT
DTSTART;TZID=America/Los_Angeles:20201230T153000
DTEND;TZID=America/Los_Angeles:20201230T170000
DTSTAMP:20260425T055702
CREATED:20200203T205857Z
LAST-MODIFIED:20201105T174611Z
UID:5580-1609342200-1609347600@naiopnnv.com
SUMMARY:DLI Committee & Programs Committee Meeting
DESCRIPTION:Please contact us for more information!
URL:https://naiopnnv.com/event/dli-committee-programs-committee-meeting-dec/
LOCATION:Virtual Meeting
CATEGORIES:Committee Meetings,DLI & Programs
ATTACH;FMTTYPE=image/jpeg:https://naiopnnv.com/wp-content/uploads/2020/02/dli-meeting.jpg
END:VEVENT
BEGIN:VEVENT
DTSTART;TZID=America/Los_Angeles:20201125T153000
DTEND;TZID=America/Los_Angeles:20201125T170000
DTSTAMP:20260425T055702
CREATED:20200203T205841Z
LAST-MODIFIED:20201105T174356Z
UID:5578-1606318200-1606323600@naiopnnv.com
SUMMARY:DLI Committee & Programs Committee Meeting
DESCRIPTION:Please contact us for more information!
URL:https://naiopnnv.com/event/dli-committee-programs-committee-meeting-nov/
LOCATION:Virtual Meeting
CATEGORIES:Committee Meetings,DLI & Programs
ATTACH;FMTTYPE=image/jpeg:https://naiopnnv.com/wp-content/uploads/2020/02/dli-meeting.jpg
END:VEVENT
BEGIN:VEVENT
DTSTART;TZID=America/Los_Angeles:20201028T153000
DTEND;TZID=America/Los_Angeles:20201028T170000
DTSTAMP:20260425T055702
CREATED:20200203T205827Z
LAST-MODIFIED:20200210T224750Z
UID:5576-1603899000-1603904400@naiopnnv.com
SUMMARY:DLI Committee & Programs Committee Meeting
DESCRIPTION:
URL:https://naiopnnv.com/event/dli-committee-programs-committee-meeting-oct/
LOCATION:M3\, 6950 S. McCarran Blvd.\, Reno\, NV\, 89509\, United States
CATEGORIES:Committee Meetings,DLI & Programs
ATTACH;FMTTYPE=image/jpeg:https://naiopnnv.com/wp-content/uploads/2020/02/dli-meeting.jpg
END:VEVENT
BEGIN:VEVENT
DTSTART;TZID=America/Los_Angeles:20200930T153000
DTEND;TZID=America/Los_Angeles:20200930T170000
DTSTAMP:20260425T055702
CREATED:20200203T205814Z
LAST-MODIFIED:20200210T224810Z
UID:5574-1601479800-1601485200@naiopnnv.com
SUMMARY:DLI Committee & Programs Committee Meeting
DESCRIPTION:
URL:https://naiopnnv.com/event/dli-committee-programs-committee-meeting-sept/
LOCATION:M3\, 6950 S. McCarran Blvd.\, Reno\, NV\, 89509\, United States
CATEGORIES:Committee Meetings,DLI & Programs
ATTACH;FMTTYPE=image/jpeg:https://naiopnnv.com/wp-content/uploads/2020/02/dli-meeting.jpg
END:VEVENT
BEGIN:VEVENT
DTSTART;TZID=America/Los_Angeles:20200826T153000
DTEND;TZID=America/Los_Angeles:20200826T170000
DTSTAMP:20260425T055702
CREATED:20200203T205800Z
LAST-MODIFIED:20200210T224824Z
UID:5572-1598455800-1598461200@naiopnnv.com
SUMMARY:DLI Committee & Programs Committee Meeting
DESCRIPTION:
URL:https://naiopnnv.com/event/dli-committee-programs-committee-meeting-aug/
LOCATION:M3\, 6950 S. McCarran Blvd.\, Reno\, NV\, 89509\, United States
CATEGORIES:Committee Meetings,DLI & Programs
ATTACH;FMTTYPE=image/jpeg:https://naiopnnv.com/wp-content/uploads/2020/02/dli-meeting.jpg
END:VEVENT
BEGIN:VEVENT
DTSTART;TZID=America/Los_Angeles:20200819T100000
DTEND;TZID=America/Los_Angeles:20200819T110000
DTSTAMP:20260425T055702
CREATED:20200812T154838Z
LAST-MODIFIED:20200812T155240Z
UID:5757-1597831200-1597834800@naiopnnv.com
SUMMARY:Northern Nevada Transportation Update - Zoom Webinar
DESCRIPTION:
URL:https://naiopnnv.com/event/northern-nevada-transportation-update-zoom-webinar/
LOCATION:Virtual Meeting
CATEGORIES:Committee Meetings,Government Affairs,Special Event
ATTACH;FMTTYPE=image/jpeg:https://naiopnnv.com/wp-content/uploads/2019/12/Contact-Page-Banner-Reno.jpg
END:VEVENT
BEGIN:VEVENT
DTSTART;TZID=America/Los_Angeles:20200729T153000
DTEND;TZID=America/Los_Angeles:20200729T170000
DTSTAMP:20260425T055702
CREATED:20200203T205743Z
LAST-MODIFIED:20200210T224839Z
UID:5570-1596036600-1596042000@naiopnnv.com
SUMMARY:DLI Committee & Programs Committee Meeting
DESCRIPTION:
URL:https://naiopnnv.com/event/dli-committee-programs-committee-meeting-july/
LOCATION:M3\, 6950 S. McCarran Blvd.\, Reno\, NV\, 89509\, United States
CATEGORIES:Committee Meetings,DLI & Programs
ATTACH;FMTTYPE=image/jpeg:https://naiopnnv.com/wp-content/uploads/2020/02/dli-meeting.jpg
END:VEVENT
BEGIN:VEVENT
DTSTART;TZID=America/Los_Angeles:20200624T153000
DTEND;TZID=America/Los_Angeles:20200624T170000
DTSTAMP:20260425T055702
CREATED:20200203T205725Z
LAST-MODIFIED:20200211T000523Z
UID:5568-1593012600-1593018000@naiopnnv.com
SUMMARY:DLI Committee & Programs Committee Meeting
DESCRIPTION:
URL:https://naiopnnv.com/event/dli-committee-programs-committee-meeting-june/
LOCATION:M3\, 6950 S. McCarran Blvd.\, Reno\, NV\, 89509\, United States
CATEGORIES:Committee Meetings,DLI & Programs
ATTACH;FMTTYPE=image/jpeg:https://naiopnnv.com/wp-content/uploads/2020/02/dli-meeting.jpg
END:VEVENT
BEGIN:VEVENT
DTSTART;TZID=America/Los_Angeles:20200527T153000
DTEND;TZID=America/Los_Angeles:20200527T170000
DTSTAMP:20260425T055702
CREATED:20200203T205712Z
LAST-MODIFIED:20200211T000541Z
UID:5566-1590593400-1590598800@naiopnnv.com
SUMMARY:DLI Committee & Programs Committee Meeting
DESCRIPTION:
URL:https://naiopnnv.com/event/dli-committee-programs-committee-meeting-may/
LOCATION:M3\, 6950 S. McCarran Blvd.\, Reno\, NV\, 89509\, United States
CATEGORIES:Committee Meetings,DLI & Programs
ATTACH;FMTTYPE=image/jpeg:https://naiopnnv.com/wp-content/uploads/2020/02/dli-meeting.jpg
END:VEVENT
BEGIN:VEVENT
DTSTART;TZID=America/Los_Angeles:20200429T153000
DTEND;TZID=America/Los_Angeles:20200429T170000
DTSTAMP:20260425T055702
CREATED:20200203T205658Z
LAST-MODIFIED:20200211T000556Z
UID:5564-1588174200-1588179600@naiopnnv.com
SUMMARY:DLI Committee & Programs Committee Meeting
DESCRIPTION:
URL:https://naiopnnv.com/event/dli-committee-programs-committee-meeting-april/
LOCATION:M3\, 6950 S. McCarran Blvd.\, Reno\, NV\, 89509\, United States
CATEGORIES:Committee Meetings,DLI & Programs
ATTACH;FMTTYPE=image/jpeg:https://naiopnnv.com/wp-content/uploads/2020/02/dli-meeting.jpg
END:VEVENT
BEGIN:VEVENT
DTSTART;TZID=America/Los_Angeles:20200325T153000
DTEND;TZID=America/Los_Angeles:20200325T170000
DTSTAMP:20260425T055702
CREATED:20200203T205642Z
LAST-MODIFIED:20200211T000615Z
UID:5562-1585150200-1585155600@naiopnnv.com
SUMMARY:DLI Committee & Programs Committee Meeting
DESCRIPTION:
URL:https://naiopnnv.com/event/dli-committee-programs-committee-meeting-march/
LOCATION:M3\, 6950 S. McCarran Blvd.\, Reno\, NV\, 89509\, United States
CATEGORIES:Committee Meetings,DLI & Programs
ATTACH;FMTTYPE=image/jpeg:https://naiopnnv.com/wp-content/uploads/2020/02/dli-meeting.jpg
END:VEVENT
BEGIN:VEVENT
DTSTART;TZID=America/Los_Angeles:20200226T153000
DTEND;TZID=America/Los_Angeles:20200226T170000
DTSTAMP:20260425T055702
CREATED:20200203T205608Z
LAST-MODIFIED:20200211T000632Z
UID:5558-1582731000-1582736400@naiopnnv.com
SUMMARY:DLI Committee & Programs Committee Meeting
DESCRIPTION:
URL:https://naiopnnv.com/event/dli-committee-programs-committee-meeting-feb/
LOCATION:M3\, 6950 S. McCarran Blvd.\, Reno\, NV\, 89509\, United States
CATEGORIES:Committee Meetings,DLI & Programs
ATTACH;FMTTYPE=image/jpeg:https://naiopnnv.com/wp-content/uploads/2020/02/dli-meeting.jpg
END:VEVENT
END:VCALENDAR