BEGIN:VCALENDAR
VERSION:2.0
PRODID:-//NAIOP North NV - ECPv6.15.20//NONSGML v1.0//EN
CALSCALE:GREGORIAN
METHOD:PUBLISH
X-WR-CALNAME:NAIOP North NV
X-ORIGINAL-URL:https://naiopnnv.com
X-WR-CALDESC:Events for NAIOP North NV
REFRESH-INTERVAL;VALUE=DURATION:PT1H
X-Robots-Tag:noindex
X-PUBLISHED-TTL:PT1H
BEGIN:VTIMEZONE
TZID:America/Los_Angeles
BEGIN:DAYLIGHT
TZOFFSETFROM:-0800
TZOFFSETTO:-0700
TZNAME:PDT
DTSTART:20190310T100000
END:DAYLIGHT
BEGIN:STANDARD
TZOFFSETFROM:-0700
TZOFFSETTO:-0800
TZNAME:PST
DTSTART:20191103T090000
END:STANDARD
BEGIN:DAYLIGHT
TZOFFSETFROM:-0800
TZOFFSETTO:-0700
TZNAME:PDT
DTSTART:20200308T100000
END:DAYLIGHT
BEGIN:STANDARD
TZOFFSETFROM:-0700
TZOFFSETTO:-0800
TZNAME:PST
DTSTART:20201101T090000
END:STANDARD
BEGIN:DAYLIGHT
TZOFFSETFROM:-0800
TZOFFSETTO:-0700
TZNAME:PDT
DTSTART:20210314T100000
END:DAYLIGHT
BEGIN:STANDARD
TZOFFSETFROM:-0700
TZOFFSETTO:-0800
TZNAME:PST
DTSTART:20211107T090000
END:STANDARD
END:VTIMEZONE
BEGIN:VEVENT
DTSTART;TZID=America/Los_Angeles:20201230T153000
DTEND;TZID=America/Los_Angeles:20201230T170000
DTSTAMP:20260425T055710
CREATED:20200203T205857Z
LAST-MODIFIED:20201105T174611Z
UID:5580-1609342200-1609347600@naiopnnv.com
SUMMARY:DLI Committee & Programs Committee Meeting
DESCRIPTION:Please contact us for more information!
URL:https://naiopnnv.com/event/dli-committee-programs-committee-meeting-dec/
LOCATION:Virtual Meeting
CATEGORIES:Committee Meetings,DLI & Programs
ATTACH;FMTTYPE=image/jpeg:https://naiopnnv.com/wp-content/uploads/2020/02/dli-meeting.jpg
END:VEVENT
BEGIN:VEVENT
DTSTART;TZID=America/Los_Angeles:20201125T153000
DTEND;TZID=America/Los_Angeles:20201125T170000
DTSTAMP:20260425T055710
CREATED:20200203T205841Z
LAST-MODIFIED:20201105T174356Z
UID:5578-1606318200-1606323600@naiopnnv.com
SUMMARY:DLI Committee & Programs Committee Meeting
DESCRIPTION:Please contact us for more information!
URL:https://naiopnnv.com/event/dli-committee-programs-committee-meeting-nov/
LOCATION:Virtual Meeting
CATEGORIES:Committee Meetings,DLI & Programs
ATTACH;FMTTYPE=image/jpeg:https://naiopnnv.com/wp-content/uploads/2020/02/dli-meeting.jpg
END:VEVENT
BEGIN:VEVENT
DTSTART;TZID=America/Los_Angeles:20201028T153000
DTEND;TZID=America/Los_Angeles:20201028T170000
DTSTAMP:20260425T055710
CREATED:20200203T205827Z
LAST-MODIFIED:20200210T224750Z
UID:5576-1603899000-1603904400@naiopnnv.com
SUMMARY:DLI Committee & Programs Committee Meeting
DESCRIPTION:
URL:https://naiopnnv.com/event/dli-committee-programs-committee-meeting-oct/
LOCATION:M3\, 6950 S. McCarran Blvd.\, Reno\, NV\, 89509\, United States
CATEGORIES:Committee Meetings,DLI & Programs
ATTACH;FMTTYPE=image/jpeg:https://naiopnnv.com/wp-content/uploads/2020/02/dli-meeting.jpg
END:VEVENT
BEGIN:VEVENT
DTSTART;TZID=America/Los_Angeles:20200930T153000
DTEND;TZID=America/Los_Angeles:20200930T170000
DTSTAMP:20260425T055710
CREATED:20200203T205814Z
LAST-MODIFIED:20200210T224810Z
UID:5574-1601479800-1601485200@naiopnnv.com
SUMMARY:DLI Committee & Programs Committee Meeting
DESCRIPTION:
URL:https://naiopnnv.com/event/dli-committee-programs-committee-meeting-sept/
LOCATION:M3\, 6950 S. McCarran Blvd.\, Reno\, NV\, 89509\, United States
CATEGORIES:Committee Meetings,DLI & Programs
ATTACH;FMTTYPE=image/jpeg:https://naiopnnv.com/wp-content/uploads/2020/02/dli-meeting.jpg
END:VEVENT
BEGIN:VEVENT
DTSTART;TZID=America/Los_Angeles:20200826T153000
DTEND;TZID=America/Los_Angeles:20200826T170000
DTSTAMP:20260425T055710
CREATED:20200203T205800Z
LAST-MODIFIED:20200210T224824Z
UID:5572-1598455800-1598461200@naiopnnv.com
SUMMARY:DLI Committee & Programs Committee Meeting
DESCRIPTION:
URL:https://naiopnnv.com/event/dli-committee-programs-committee-meeting-aug/
LOCATION:M3\, 6950 S. McCarran Blvd.\, Reno\, NV\, 89509\, United States
CATEGORIES:Committee Meetings,DLI & Programs
ATTACH;FMTTYPE=image/jpeg:https://naiopnnv.com/wp-content/uploads/2020/02/dli-meeting.jpg
END:VEVENT
BEGIN:VEVENT
DTSTART;TZID=America/Los_Angeles:20200729T153000
DTEND;TZID=America/Los_Angeles:20200729T170000
DTSTAMP:20260425T055710
CREATED:20200203T205743Z
LAST-MODIFIED:20200210T224839Z
UID:5570-1596036600-1596042000@naiopnnv.com
SUMMARY:DLI Committee & Programs Committee Meeting
DESCRIPTION:
URL:https://naiopnnv.com/event/dli-committee-programs-committee-meeting-july/
LOCATION:M3\, 6950 S. McCarran Blvd.\, Reno\, NV\, 89509\, United States
CATEGORIES:Committee Meetings,DLI & Programs
ATTACH;FMTTYPE=image/jpeg:https://naiopnnv.com/wp-content/uploads/2020/02/dli-meeting.jpg
END:VEVENT
BEGIN:VEVENT
DTSTART;TZID=America/Los_Angeles:20200624T153000
DTEND;TZID=America/Los_Angeles:20200624T170000
DTSTAMP:20260425T055710
CREATED:20200203T205725Z
LAST-MODIFIED:20200211T000523Z
UID:5568-1593012600-1593018000@naiopnnv.com
SUMMARY:DLI Committee & Programs Committee Meeting
DESCRIPTION:
URL:https://naiopnnv.com/event/dli-committee-programs-committee-meeting-june/
LOCATION:M3\, 6950 S. McCarran Blvd.\, Reno\, NV\, 89509\, United States
CATEGORIES:Committee Meetings,DLI & Programs
ATTACH;FMTTYPE=image/jpeg:https://naiopnnv.com/wp-content/uploads/2020/02/dli-meeting.jpg
END:VEVENT
BEGIN:VEVENT
DTSTART;TZID=America/Los_Angeles:20200527T153000
DTEND;TZID=America/Los_Angeles:20200527T170000
DTSTAMP:20260425T055710
CREATED:20200203T205712Z
LAST-MODIFIED:20200211T000541Z
UID:5566-1590593400-1590598800@naiopnnv.com
SUMMARY:DLI Committee & Programs Committee Meeting
DESCRIPTION:
URL:https://naiopnnv.com/event/dli-committee-programs-committee-meeting-may/
LOCATION:M3\, 6950 S. McCarran Blvd.\, Reno\, NV\, 89509\, United States
CATEGORIES:Committee Meetings,DLI & Programs
ATTACH;FMTTYPE=image/jpeg:https://naiopnnv.com/wp-content/uploads/2020/02/dli-meeting.jpg
END:VEVENT
BEGIN:VEVENT
DTSTART;TZID=America/Los_Angeles:20200429T153000
DTEND;TZID=America/Los_Angeles:20200429T170000
DTSTAMP:20260425T055710
CREATED:20200203T205658Z
LAST-MODIFIED:20200211T000556Z
UID:5564-1588174200-1588179600@naiopnnv.com
SUMMARY:DLI Committee & Programs Committee Meeting
DESCRIPTION:
URL:https://naiopnnv.com/event/dli-committee-programs-committee-meeting-april/
LOCATION:M3\, 6950 S. McCarran Blvd.\, Reno\, NV\, 89509\, United States
CATEGORIES:Committee Meetings,DLI & Programs
ATTACH;FMTTYPE=image/jpeg:https://naiopnnv.com/wp-content/uploads/2020/02/dli-meeting.jpg
END:VEVENT
BEGIN:VEVENT
DTSTART;TZID=America/Los_Angeles:20200325T153000
DTEND;TZID=America/Los_Angeles:20200325T170000
DTSTAMP:20260425T055710
CREATED:20200203T205642Z
LAST-MODIFIED:20200211T000615Z
UID:5562-1585150200-1585155600@naiopnnv.com
SUMMARY:DLI Committee & Programs Committee Meeting
DESCRIPTION:
URL:https://naiopnnv.com/event/dli-committee-programs-committee-meeting-march/
LOCATION:M3\, 6950 S. McCarran Blvd.\, Reno\, NV\, 89509\, United States
CATEGORIES:Committee Meetings,DLI & Programs
ATTACH;FMTTYPE=image/jpeg:https://naiopnnv.com/wp-content/uploads/2020/02/dli-meeting.jpg
END:VEVENT
BEGIN:VEVENT
DTSTART;TZID=America/Los_Angeles:20200226T153000
DTEND;TZID=America/Los_Angeles:20200226T170000
DTSTAMP:20260425T055710
CREATED:20200203T205608Z
LAST-MODIFIED:20200211T000632Z
UID:5558-1582731000-1582736400@naiopnnv.com
SUMMARY:DLI Committee & Programs Committee Meeting
DESCRIPTION:
URL:https://naiopnnv.com/event/dli-committee-programs-committee-meeting-feb/
LOCATION:M3\, 6950 S. McCarran Blvd.\, Reno\, NV\, 89509\, United States
CATEGORIES:Committee Meetings,DLI & Programs
ATTACH;FMTTYPE=image/jpeg:https://naiopnnv.com/wp-content/uploads/2020/02/dli-meeting.jpg
END:VEVENT
END:VCALENDAR